BEGIN:VCALENDAR
VERSION:2.0
PRODID:-//AudioTheme 2.3.8
BEGIN:VEVENT
UID:urn:uuid:c2f7a984-6a93-4fa2-8e2b-2b5c14985e0b
URL:https://mitchmcvicker.com/concerts/gig-1076/
DTSTART;VALUE=DATE:20150329
SUMMARY:Derby Bible Church
LOCATION:Derby Bible Church\, Derby\, KS
END:VEVENT
END:VCALENDAR
