BEGIN:VCALENDAR
VERSION:2.0
PRODID:-//AudioTheme 2.3.8
BEGIN:VEVENT
UID:urn:uuid:020d8606-dce4-442f-8519-9607a52253d8
URL:https://mitchmcvicker.com/concerts/gig-1074/
DTSTART;VALUE=DATE:20150327
SUMMARY:Ragamuffin Retreat/Westminster Woods Camp
LOCATION:Ragamuffin Retreat/Westminster Woods Camp\, Fall River\, KS
END:VEVENT
END:VCALENDAR
