BEGIN:VCALENDAR
VERSION:2.0
PRODID:-//AudioTheme 2.3.8
BEGIN:VEVENT
UID:urn:uuid:1723b74d-3467-49d1-b9dc-94106f698cca
URL:https://mitchmcvicker.com/concerts/gig-1072/
DTSTART;VALUE=DATE:20150326
SUMMARY:Fresh Start Community Church
LOCATION:Fresh Start Community Church\, Moore\, OK
END:VEVENT
END:VCALENDAR
