BEGIN:VCALENDAR
VERSION:2.0
PRODID:-//AudioTheme 2.3.8
BEGIN:VEVENT
UID:urn:uuid:8ed55aaa-e461-40c3-ae61-f9fd38153750
URL:https://mitchmcvicker.com/concerts/gig-1071/
DTSTART;VALUE=DATE:20150325
SUMMARY:Dallas Christian College
LOCATION:Dallas Christian College\, 2700 Christian Parkway\, Dallas\, TX\, USA\, 75234
END:VEVENT
END:VCALENDAR
