BEGIN:VCALENDAR
VERSION:2.0
PRODID:-//AudioTheme 2.3.8
BEGIN:VEVENT
UID:urn:uuid:5377a536-50d1-4c0b-b103-8ddb289c67c3
URL:https://mitchmcvicker.com/concerts/gig-1069/
DTSTART;VALUE=DATE:20150315
SUMMARY:Life Spring Community Church
LOCATION:Life Spring Community Church\, St. Peters\, MO
END:VEVENT
END:VCALENDAR
