BEGIN:VCALENDAR
VERSION:2.0
PRODID:-//AudioTheme 2.3.8
BEGIN:VEVENT
UID:urn:uuid:d8d372cc-3ece-4d42-994e-5d2fbb03766a
URL:https://mitchmcvicker.com/concerts/gig-1068/
DTSTART;VALUE=DATE:20150315
SUMMARY:Lifepoint Church
LOCATION:Lifepoint Church\, 200 SW 30th St\, Topeka\, KS
END:VEVENT
END:VCALENDAR
