BEGIN:VCALENDAR
VERSION:2.0
PRODID:-//AudioTheme 2.3.8
BEGIN:VEVENT
UID:urn:uuid:52e45acb-bcea-464d-9c4c-1b8c0e032c27
URL:https://mitchmcvicker.com/concerts/gig-1066/
DTSTART;VALUE=DATE:20150313
SUMMARY:Living Hope Restoration Branch
LOCATION:Living Hope Restoration Branch\, Independence\, MO
END:VEVENT
END:VCALENDAR
