BEGIN:VCALENDAR
VERSION:2.0
PRODID:-//AudioTheme 2.3.8
BEGIN:VEVENT
UID:urn:uuid:c5a31735-8ad1-4603-878e-6f27a8202b6b
URL:https://mitchmcvicker.com/concerts/gig-1064/
DTSTART;VALUE=DATE:20150312
SUMMARY:Louisburg Baptist Temple
LOCATION:Louisburg Baptist Temple\, Louisburg\, KS
END:VEVENT
END:VCALENDAR
