BEGIN:VCALENDAR
VERSION:2.0
PRODID:-//AudioTheme 2.3.8
BEGIN:VEVENT
UID:urn:uuid:34485ec2-f0aa-4e0b-9e9b-5b6f6021f80e
URL:https://mitchmcvicker.com/concerts/gig-1062/
DTSTART;VALUE=DATE:20150311
SUMMARY:First United Methodist Church
LOCATION:First United Methodist Church\, Abilene\, KS
END:VEVENT
END:VCALENDAR
