BEGIN:VCALENDAR
VERSION:2.0
PRODID:-//AudioTheme 2.3.8
BEGIN:VEVENT
UID:urn:uuid:e8526895-411a-42a3-a293-e66516459a7a
URL:https://mitchmcvicker.com/concerts/gig-1060/
DTSTART;VALUE=DATE:20150209
SUMMARY:University of Florida Christian Campus House
LOCATION:University of Florida Christian Campus House\, Gainesville\, FL
END:VEVENT
END:VCALENDAR
