BEGIN:VCALENDAR
VERSION:2.0
PRODID:-//AudioTheme 2.3.8
BEGIN:VEVENT
UID:urn:uuid:85f37459-f956-4f94-8028-e6e8784c6c4a
URL:https://mitchmcvicker.com/concerts/gig-106/
DTSTART;TZID=GMT:20170521T000000
SUMMARY:Lifebridge Christian Center
LOCATION:Lifebridge Christian Center\, 2022 Alpine Rd\, Longview\, TX
END:VEVENT
END:VCALENDAR
