BEGIN:VCALENDAR
VERSION:2.0
PRODID:-//AudioTheme 2.3.8
BEGIN:VEVENT
UID:urn:uuid:495f87ef-6484-44ce-9a41-bd707fb6a47e
URL:https://mitchmcvicker.com/concerts/gig-1058/
DTSTART;VALUE=DATE:20150207
SUMMARY:New Testament Fellowship
LOCATION:New Testament Fellowship\, Pensacola\, FL
END:VEVENT
END:VCALENDAR
