BEGIN:VCALENDAR
VERSION:2.0
PRODID:-//AudioTheme 2.3.8
BEGIN:VEVENT
UID:urn:uuid:45f3f362-3fd3-4dc5-8207-b1702e835b62
URL:https://mitchmcvicker.com/concerts/gig-1055/
DTSTART;VALUE=DATE:20150115
SUMMARY:Spruce Lake Retreat (Mens' Retreat)
LOCATION:Spruce Lake Retreat (Mens' Retreat)\, Canandensis\, PA
END:VEVENT
END:VCALENDAR
