BEGIN:VCALENDAR
VERSION:2.0
PRODID:-//AudioTheme 2.3.8
BEGIN:VEVENT
UID:urn:uuid:dd605159-9c60-4aca-b1a5-dfcbaf51c850
URL:https://mitchmcvicker.com/concerts/gig-1053/
DTSTART;VALUE=DATE:20150114
SUMMARY:Evangelical United Methodist Church
LOCATION:Evangelical United Methodist Church\, New Holland\, PA
END:VEVENT
END:VCALENDAR
