BEGIN:VCALENDAR
VERSION:2.0
PRODID:-//AudioTheme 2.3.8
BEGIN:VEVENT
UID:urn:uuid:a0178769-cb9a-4c81-8b09-270c900e615a
URL:https://mitchmcvicker.com/concerts/gig-1051/
DTSTART;VALUE=DATE:20150113
SUMMARY:Community Christian Church
LOCATION:Community Christian Church\, Dublin\, VA
END:VEVENT
END:VCALENDAR
