BEGIN:VCALENDAR
VERSION:2.0
PRODID:-//AudioTheme 2.3.8
BEGIN:VEVENT
UID:urn:uuid:b01f3437-176b-4623-92f9-dd53f3efcb17
URL:https://mitchmcvicker.com/concerts/gig-1049/
DTSTART;VALUE=DATE:20161204
SUMMARY:Holton Christian Church - Church in the Park
LOCATION:Holton Christian Church - Church in the Park\, Holton Community Park 6805 W. Versailles St.\, Holton\, IN
END:VEVENT
END:VCALENDAR
