BEGIN:VCALENDAR
VERSION:2.0
PRODID:-//AudioTheme 2.3.8
BEGIN:VEVENT
UID:urn:uuid:41f39a24-e595-4d8b-94e5-93de6f204549
URL:https://mitchmcvicker.com/concerts/gig-1047/
DTSTART;VALUE=DATE:20161202
SUMMARY:Community Church of Waterford
LOCATION:Community Church of Waterford\, Goshen\, IN
END:VEVENT
END:VCALENDAR
