BEGIN:VCALENDAR
VERSION:2.0
PRODID:-//AudioTheme 2.3.8
BEGIN:VEVENT
UID:urn:uuid:cb999418-a877-453e-a74d-7ff781802a1f
URL:https://mitchmcvicker.com/concerts/gig-1045/
DTSTART;VALUE=DATE:20161201
SUMMARY:City Chapel Evangelical Free
LOCATION:City Chapel Evangelical Free\, South Bend\, IN
END:VEVENT
END:VCALENDAR
