BEGIN:VCALENDAR
VERSION:2.0
PRODID:-//AudioTheme 2.3.8
BEGIN:VEVENT
UID:urn:uuid:0d6c4cb1-a166-4b04-9d36-0cea5b7b13c8
URL:https://mitchmcvicker.com/concerts/gig-1043/
DTSTART;VALUE=DATE:20161130
SUMMARY:Villa Heights Christian Church
LOCATION:Villa Heights Christian Church\, Joplin\, MO
END:VEVENT
END:VCALENDAR
