BEGIN:VCALENDAR
VERSION:2.0
PRODID:-//AudioTheme 2.3.8
BEGIN:VEVENT
UID:urn:uuid:79f0ade1-ff64-479b-82c5-109ad1f0672e
URL:https://mitchmcvicker.com/concerts/gig-1041/
DTSTART;VALUE=DATE:20161129
SUMMARY:Maur Hill-Mount Academy
LOCATION:Maur Hill-Mount Academy\, Atchison\, KS
END:VEVENT
END:VCALENDAR
