BEGIN:VCALENDAR
VERSION:2.0
PRODID:-//AudioTheme 2.3.8
BEGIN:VEVENT
UID:urn:uuid:932821c8-cc39-4944-84cf-f00b33ecd623
URL:https://mitchmcvicker.com/concerts/gig-104/
DTSTART;TZID=GMT:20170521T153000
SUMMARY:The Mission Church
LOCATION:The Mission Church\, 3001 N 3rd St\, Abilene\, TX\, United States
END:VEVENT
END:VCALENDAR
