BEGIN:VCALENDAR
VERSION:2.0
PRODID:-//AudioTheme 2.3.8
BEGIN:VEVENT
UID:urn:uuid:c2f6f06e-6b79-4493-819f-51122e637ee0
URL:https://mitchmcvicker.com/concerts/gig-1039/
DTSTART;VALUE=DATE:20161120
SUMMARY:South Metro Vineyard Church
LOCATION:South Metro Vineyard Church\, Burnsville\, MN
END:VEVENT
END:VCALENDAR
