BEGIN:VCALENDAR
VERSION:2.0
PRODID:-//AudioTheme 2.3.8
BEGIN:VEVENT
UID:urn:uuid:2a8e8963-b6e9-4e4c-9660-f6ddbe20750e
URL:https://mitchmcvicker.com/concerts/gig-1037/
DTSTART;VALUE=DATE:20161119
SUMMARY:Bethany Lutheran Church
LOCATION:Bethany Lutheran Church\, Star Prairie\, WI
END:VEVENT
END:VCALENDAR
