BEGIN:VCALENDAR
VERSION:2.0
PRODID:-//AudioTheme 2.3.8
BEGIN:VEVENT
UID:urn:uuid:155aba14-dcae-40c4-9054-df14c5bb9175
URL:https://mitchmcvicker.com/concerts/gig-1035/
DTSTART;VALUE=DATE:20161118
SUMMARY:Jesus Fellowship of Believers
LOCATION:Jesus Fellowship of Believers\, Duluth\, MN
END:VEVENT
END:VCALENDAR
