BEGIN:VCALENDAR
VERSION:2.0
PRODID:-//AudioTheme 2.3.8
BEGIN:VEVENT
UID:urn:uuid:d5af03c5-925e-476d-a97a-15d116532b0e
URL:https://mitchmcvicker.com/concerts/gig-1033/
DTSTART;VALUE=DATE:20161117
SUMMARY:Trinity Lutheran Church
LOCATION:Trinity Lutheran Church\, Stevens Point\, WI
END:VEVENT
END:VCALENDAR
