BEGIN:VCALENDAR
VERSION:2.0
PRODID:-//AudioTheme 2.3.8
BEGIN:VEVENT
UID:urn:uuid:e4204aef-4438-4ca2-a1ef-747d84da106a
URL:https://mitchmcvicker.com/concerts/gig-1031/
DTSTART;VALUE=DATE:20161116
SUMMARY:Hanna City United Methodist Church
LOCATION:Hanna City United Methodist Church\, Hanna City\, IL
END:VEVENT
END:VCALENDAR
