BEGIN:VCALENDAR
VERSION:2.0
PRODID:-//AudioTheme 2.3.8
BEGIN:VEVENT
UID:urn:uuid:98d8a7bf-6b77-4c1e-9b34-47fcdcaa4e4f
URL:https://mitchmcvicker.com/concerts/gig-1029/
DTSTART;VALUE=DATE:20161030
SUMMARY:Community Church-New City
LOCATION:Community Church-New City\, Oshkosh\, WI
END:VEVENT
END:VCALENDAR
