BEGIN:VCALENDAR
VERSION:2.0
PRODID:-//AudioTheme 2.3.8
BEGIN:VEVENT
UID:urn:uuid:869807d6-1571-46a0-9027-7a830f3b1e9b
URL:https://mitchmcvicker.com/concerts/gig-1027/
DTSTART;VALUE=DATE:20161028
SUMMARY:Cup O'Joy Coffeehouse
LOCATION:Cup O'Joy Coffeehouse\, Green Bay\, WI
END:VEVENT
END:VCALENDAR
