BEGIN:VCALENDAR
VERSION:2.0
PRODID:-//AudioTheme 2.3.8
BEGIN:VEVENT
UID:urn:uuid:27a22edd-bccb-47af-a95e-e78e49cb87e8
URL:https://mitchmcvicker.com/concerts/gig-1025/
DTSTART;VALUE=DATE:20161027
SUMMARY:St. Hyacinth Church
LOCATION:St. Hyacinth Church\, LaSalle\, IL
END:VEVENT
END:VCALENDAR
