BEGIN:VCALENDAR
VERSION:2.0
PRODID:-//AudioTheme 2.3.8
BEGIN:VEVENT
UID:urn:uuid:43abf1d4-5c1a-45de-9217-faee1d44a21e
URL:https://mitchmcvicker.com/concerts/gig-1023/
DTSTART;VALUE=DATE:20161026
SUMMARY:Valley Mills Christian Church
LOCATION:Valley Mills Christian Church\, Indianapolis\, IN
END:VEVENT
END:VCALENDAR
