BEGIN:VCALENDAR
VERSION:2.0
PRODID:-//AudioTheme 2.3.8
BEGIN:VEVENT
UID:urn:uuid:39de669a-44df-4cff-8eea-69ca31a96a82
URL:https://mitchmcvicker.com/concerts/gig-1021/
DTSTART;VALUE=DATE:20161025
SUMMARY:Sycamore Tree Church
LOCATION:Sycamore Tree Church\, Steubenville\, OH
END:VEVENT
END:VCALENDAR
