BEGIN:VCALENDAR
VERSION:2.0
PRODID:-//AudioTheme 2.3.8
BEGIN:VEVENT
UID:urn:uuid:6df384f3-00a1-4e43-b1bc-942efdd58fc9
URL:https://mitchmcvicker.com/concerts/gig-102/
DTSTART;TZID=GMT:20170521T230000
SUMMARY:Rockpile Church
LOCATION:Rockpile Church\, 1701 Broadway St\, Marble Falls\, TX\, United States
END:VEVENT
END:VCALENDAR
