BEGIN:VCALENDAR
VERSION:2.0
PRODID:-//AudioTheme 2.3.8
BEGIN:VEVENT
UID:urn:uuid:541f4ce6-6305-4d01-8ffe-bfb1d9040969
URL:https://mitchmcvicker.com/concerts/gig-1019/
DTSTART;VALUE=DATE:20161024
SUMMARY:Danville Assembly of God Church
LOCATION:Danville Assembly of God Church\, Danville\, PA
END:VEVENT
END:VCALENDAR
