BEGIN:VCALENDAR
VERSION:2.0
PRODID:-//AudioTheme 2.3.8
BEGIN:VEVENT
UID:urn:uuid:4ef46f2f-5260-410d-b864-3b51e5072b4d
URL:https://mitchmcvicker.com/concerts/gig-1017/
DTSTART;VALUE=DATE:20161009
SUMMARY:Stephens United Methodist Church
LOCATION:Stephens United Methodist Church\, Dearborn Heights\, MI
END:VEVENT
END:VCALENDAR
