BEGIN:VCALENDAR
VERSION:2.0
PRODID:-//AudioTheme 2.3.8
BEGIN:VEVENT
UID:urn:uuid:ad3f291d-b0c1-464a-bf3e-84943fce5038
URL:https://mitchmcvicker.com/concerts/gig-1015/
DTSTART;VALUE=DATE:20161007
SUMMARY:Ragamuffin Camp Christian
LOCATION:Ragamuffin Camp Christian\, Mill Run\, PA
END:VEVENT
END:VCALENDAR
