BEGIN:VCALENDAR
VERSION:2.0
PRODID:-//AudioTheme 2.3.8
BEGIN:VEVENT
UID:urn:uuid:63320934-29e2-449c-a21c-c00ab1be12b9
URL:https://mitchmcvicker.com/concerts/gig-1013/
DTSTART;VALUE=DATE:20161003
SUMMARY:Heath Church of Christ
LOCATION:Heath Church of Christ\, Heath\, OH
END:VEVENT
END:VCALENDAR
