BEGIN:VCALENDAR
VERSION:2.0
PRODID:-//AudioTheme 2.3.8
BEGIN:VEVENT
UID:urn:uuid:35a58174-0158-48e0-9e7f-148e019a2d0b
URL:https://mitchmcvicker.com/concerts/gig-1011/
DTSTART;VALUE=DATE:20161002
SUMMARY:House Concert
LOCATION:House Concert\, Nashville\, IL
END:VEVENT
END:VCALENDAR
