BEGIN:VCALENDAR
VERSION:2.0
PRODID:-//AudioTheme 2.3.8
BEGIN:VEVENT
UID:urn:uuid:bbffdd53-3b6d-45a1-b368-2d55d2fd19ec
URL:https://mitchmcvicker.com/concerts/gig-1006/
DTSTART;VALUE=DATE:20160921
SUMMARY:Jubilee Presbyterian Church
LOCATION:Jubilee Presbyterian Church\, Valley Center\, KS
END:VEVENT
END:VCALENDAR
