BEGIN:VCALENDAR
VERSION:2.0
PRODID:-//AudioTheme 2.3.8
BEGIN:VEVENT
UID:urn:uuid:0dd0526b-f834-4a21-9b5a-8889ffa6dcfe
URL:https://mitchmcvicker.com/concerts/gig-1004/
DTSTART;VALUE=DATE:20160920
SUMMARY:Fort Scott Church of the Nazarene
LOCATION:Fort Scott Church of the Nazarene\, Fort Scott\, KS
END:VEVENT
END:VCALENDAR
