BEGIN:VCALENDAR
VERSION:2.0
PRODID:-//AudioTheme 2.3.8
BEGIN:VEVENT
UID:urn:uuid:fbfcc207-b7f7-45a3-bf8e-52ea42b88acb
URL:https://mitchmcvicker.com/concerts/gig-1002/
DTSTART;VALUE=DATE:20160911
SUMMARY:Pilgrim United Methodist Church
LOCATION:Pilgrim United Methodist Church\, St. Johns\, MI
END:VEVENT
END:VCALENDAR
