BEGIN:VCALENDAR
VERSION:2.0
PRODID:-//AudioTheme 2.3.8
BEGIN:VEVENT
UID:urn:uuid:f9f3022c-062e-4b50-b418-671ba10631f8
URL:https://mitchmcvicker.com/concerts/gig-100/
DTSTART;TZID=GMT:20170524T000000
SUMMARY:First United Methodist Church
LOCATION:First United Methodist Church\, 605 Monroe Ave\, Newcastle\, TX
END:VEVENT
END:VCALENDAR
