BEGIN:VCALENDAR
VERSION:2.0
PRODID:-//AudioTheme 2.3.8
BEGIN:VEVENT
UID:urn:uuid:622a7a3a-ac48-46b4-88b7-7138cb01d7e8
URL:https://mitchmcvicker.com/concerts/fremont-ne/
DTSTART;TZID=GMT:20210430T000000
SUMMARY:Milady Coffeehouse @ May Brothers Building
LOCATION:Milady Coffeehouse @ May Brothers Building\, 105 East 6th Street\, Fremont\, NE
END:VEVENT
END:VCALENDAR
