BEGIN:VCALENDAR
VERSION:2.0
PRODID:-//AudioTheme 2.3.8
BEGIN:VEVENT
UID:urn:uuid:e29317f2-cd91-4440-819b-942a0da9272f
URL:https://mitchmcvicker.com/concerts/first-baptist-church/
DTSTART;TZID=GMT:20180413T000000
SUMMARY:First Baptist Church
LOCATION:First Baptist Church 2\, 411 W Clarinda Ave\, Shenandoah\, IA\, USA
END:VEVENT
END:VCALENDAR
