BEGIN:VCALENDAR
VERSION:2.0
PRODID:-//AudioTheme 2.3.8
BEGIN:VEVENT
UID:urn:uuid:9322a2aa-2bf9-42d5-ad20-ab53c69d6892
URL:https://mitchmcvicker.com/concerts/emmaus-road-cafe/
DTSTART;TZID=GMT:20180512T230000
SUMMARY:Emmaus Road Cafe
LOCATION:POSTPONED Emmaus Road Cafe\, 1886 Lincoln Hwy E\, POSTPONED Lancaster\, PA\, USA\, 17602
END:VEVENT
END:VCALENDAR
