BEGIN:VCALENDAR
VERSION:2.0
PRODID:-//AudioTheme 2.3.8
BEGIN:VEVENT
UID:urn:uuid:7d844a5e-7e1d-45e3-b552-8412bd9d2495
URL:https://mitchmcvicker.com/concerts/ebeneezer-umc/
DTSTART;TZID=GMT:20180526T230000
SUMMARY:Ebeneezer UMC
LOCATION:Ebeneezer UMC\, 3345 Charles Street\, Fallston\, MD\, USA\, 21047
END:VEVENT
END:VCALENDAR
