BEGIN:VCALENDAR
VERSION:2.0
PRODID:-//AudioTheme 2.3.8
BEGIN:VEVENT
UID:urn:uuid:400f669f-8afe-46b6-8778-982c0a708141
URL:https://mitchmcvicker.com/concerts/deerfield-il/
DTSTART;TZID=GMT:20180416T010000
SUMMARY:Trinity International University
LOCATION:Trinity International University\, 2065 Half Day Road\, Deerfield\, IL\, USA\, 60015
END:VEVENT
END:VCALENDAR
