BEGIN:VCALENDAR
VERSION:2.0
PRODID:-//AudioTheme 2.3.8
BEGIN:VEVENT
UID:urn:uuid:64d40c03-3025-47e9-9c41-12325db098c4
URL:https://mitchmcvicker.com/concerts/deer-run-church-christ/
DTSTART;TZID=GMT:20180728T230000
SUMMARY:Deer Run Church of Christ
LOCATION:Deer Run Church of Christ\, 2730 S. Ironwood Dr.\, South Bend\, IN\, USA\, 46614
END:VEVENT
END:VCALENDAR
