BEGIN:VCALENDAR
VERSION:2.0
PRODID:-//AudioTheme 2.3.8
BEGIN:VEVENT
UID:urn:uuid:f4a3d2fe-bc56-4e07-8b0d-2cac2f4947a6
URL:https://mitchmcvicker.com/concerts/crosswinds-community-church/
DTSTART;TZID=GMT:20180427T000000
SUMMARY:Stillwater Zephyr Theater
LOCATION:Stillwater Zephyr Theater\, 601 North Main Street\, Stillwater\, MN\, USA\, 55082
END:VEVENT
END:VCALENDAR
