BEGIN:VCALENDAR
VERSION:2.0
PRODID:-//AudioTheme 2.3.8
BEGIN:VEVENT
UID:urn:uuid:74386b66-d01c-4bc6-8ae4-90276a18ff2a
URL:https://mitchmcvicker.com/concerts/cazenovia-il/
DTSTART;VALUE=DATE:20171118
SUMMARY:Cazenovia Mennonite Church
LOCATION:Cazenovia Mennonite Church\, 1086 County Road 1800 N Low Point\, Illinois 61545\, Cazenovia\, IL
END:VEVENT
END:VCALENDAR
