BEGIN:VCALENDAR
VERSION:2.0
PRODID:-//AudioTheme 2.3.8
BEGIN:VEVENT
UID:urn:uuid:6b41d006-1d39-4168-819e-9047f2214201
URL:https://mitchmcvicker.com/concerts/carol-stream-il/
DTSTART;TZID=GMT:20180415T000000
SUMMARY:Lutheran Church of the Master
LOCATION:Lutheran Church of the Master\, 580 Kuhn Rd.\, Carol Stream\, IL\, USA
END:VEVENT
END:VCALENDAR
